BEGIN:VCALENDAR
VERSION:2.0
PRODID:-//The Summit Project - ECPv6.15.20//NONSGML v1.0//EN
CALSCALE:GREGORIAN
METHOD:PUBLISH
X-ORIGINAL-URL:https://thesummitproject.org
X-WR-CALDESC:Events for The Summit Project
REFRESH-INTERVAL;VALUE=DURATION:PT1H
X-Robots-Tag:noindex
X-PUBLISHED-TTL:PT1H
BEGIN:VTIMEZONE
TZID:America/New_York
BEGIN:DAYLIGHT
TZOFFSETFROM:-0500
TZOFFSETTO:-0400
TZNAME:EDT
DTSTART:20250309T070000
END:DAYLIGHT
BEGIN:STANDARD
TZOFFSETFROM:-0400
TZOFFSETTO:-0500
TZNAME:EST
DTSTART:20251102T060000
END:STANDARD
BEGIN:DAYLIGHT
TZOFFSETFROM:-0500
TZOFFSETTO:-0400
TZNAME:EDT
DTSTART:20260308T070000
END:DAYLIGHT
BEGIN:STANDARD
TZOFFSETFROM:-0400
TZOFFSETTO:-0500
TZNAME:EST
DTSTART:20261101T060000
END:STANDARD
BEGIN:DAYLIGHT
TZOFFSETFROM:-0500
TZOFFSETTO:-0400
TZNAME:EDT
DTSTART:20270314T070000
END:DAYLIGHT
BEGIN:STANDARD
TZOFFSETFROM:-0400
TZOFFSETTO:-0500
TZNAME:EST
DTSTART:20271107T060000
END:STANDARD
END:VTIMEZONE
BEGIN:VTIMEZONE
TZID:America/Halifax
BEGIN:DAYLIGHT
TZOFFSETFROM:-0400
TZOFFSETTO:-0300
TZNAME:ADT
DTSTART:20250309T060000
END:DAYLIGHT
BEGIN:STANDARD
TZOFFSETFROM:-0300
TZOFFSETTO:-0400
TZNAME:AST
DTSTART:20251102T050000
END:STANDARD
BEGIN:DAYLIGHT
TZOFFSETFROM:-0400
TZOFFSETTO:-0300
TZNAME:ADT
DTSTART:20260308T060000
END:DAYLIGHT
BEGIN:STANDARD
TZOFFSETFROM:-0300
TZOFFSETTO:-0400
TZNAME:AST
DTSTART:20261101T050000
END:STANDARD
BEGIN:DAYLIGHT
TZOFFSETFROM:-0400
TZOFFSETTO:-0300
TZNAME:ADT
DTSTART:20270314T060000
END:DAYLIGHT
BEGIN:STANDARD
TZOFFSETFROM:-0300
TZOFFSETTO:-0400
TZNAME:AST
DTSTART:20271107T050000
END:STANDARD
END:VTIMEZONE
BEGIN:VEVENT
DTSTART;TZID=America/New_York:20260301T130000
DTEND;TZID=America/New_York:20260301T180000
DTSTAMP:20260422T105026
CREATED:20260228T200239Z
LAST-MODIFIED:20260228T200239Z
UID:10000387-1772370000-1772388000@thesummitproject.org
SUMMARY:Maine Mariners - Cross Insurance Arena Concessions
DESCRIPTION:Event Name: Maine Mariners – Cross Insurance Arena Concessions \nEvent Type: Public \nEvent Date: Sunday\, March 1st\, 2026 \nTime: 1:00 p.m. – 6:00 p.m. \nLocation:\nCross Insurance Arena\n1 Civic Center Square\nPortland\, ME 04101 \nVolunteer Signup Link: volunteersignup.org/BHQRK \nDescription: TSP volunteers will be running the large concession at the Cross Insurance Arena when the Maine Mariners face off against the Trois-Rivieres Lions! Come see the game and stop by to say hello if you can make it! TSP receives 10% of all concession sales from our booth on this night. Always a great time with the TSP family! \nMeet in parking lot at 12:45 p.m. \nTribute Stones:\nN/A \n  \nWe are always looking for additional help for these fundraising events! 12 volunteers are required at each event in order to support. Email mark.losacco@thesummitproject.org if you have questions! \n  \n  \n 
URL:https://thesummitproject.org/event/maine-mariners-cross-insurance-arena-concessions-58/
LOCATION:Cross Insurance Arena\, 1 Civic Center Square\, Portland\, ME\, 04101\, United States
CATEGORIES:Hosted,Volunteer Opportunity
ATTACH;FMTTYPE=image/jpeg:https://thesummitproject.org/wp-content/uploads/2026/01/CrossCrew.jpg
END:VEVENT
BEGIN:VEVENT
DTSTART;TZID=America/New_York:20260313T170000
DTEND;TZID=America/New_York:20260313T220000
DTSTAMP:20260422T105026
CREATED:20260304T135746Z
LAST-MODIFIED:20260304T135934Z
UID:10000388-1773421200-1773439200@thesummitproject.org
SUMMARY:Maine Mariners - Cross Insurance Arena Concessions
DESCRIPTION:Event Name: Maine Mariners – Cross Insurance Arena Concessions \nEvent Type: Public \nEvent Date: Friday March 13th\, 2026 \nTime: 5:00 p.m. – 10:00 p.m. \nLocation:\nCross Insurance Arena\n1 Civic Center Square\nPortland\, ME 04101 \nVolunteer Signup Link: volunteersignup.org/H48C4 \nDescription: TSP volunteers will be running the large concession at the Cross Insurance Arena when the Maine Mariners face off against the Norfolk Admirals! Come see the game and stop by to say hello if you can make it! TSP receives 10% of all concession sales from our booth on this night. Always a great time with the TSP family! \nMeet in parking lot at 4:45 p.m. \nTribute Stones:\nN/A \n  \nWe are always looking for additional help for these fundraising events! 12 volunteers are required at each event in order to support. Email mark.losacco@thesummitproject.org if you have questions! \n  \n  \n 
URL:https://thesummitproject.org/event/maine-mariners-cross-insurance-arena-concessions-59/
LOCATION:Cross Insurance Arena\, 1 Civic Center Square\, Portland\, ME\, 04101\, United States
CATEGORIES:Hosted,Volunteer Opportunity
ATTACH;FMTTYPE=image/jpeg:https://thesummitproject.org/wp-content/uploads/2026/03/Concessions.jpg
END:VEVENT
BEGIN:VEVENT
DTSTART;TZID=America/Halifax:20260314T090000
DTEND;TZID=America/Halifax:20260314T140000
DTSTAMP:20260422T105026
CREATED:20251130T145818Z
LAST-MODIFIED:20260307T223540Z
UID:10000374-1773478800-1773496800@thesummitproject.org
SUMMARY:Mt. Willard Hike
DESCRIPTION:Event Name: Mt. Willard Hike\nEvent Type: Public\nEvent Date:Saturday\, March 14th 2026\nTime: 9:00 AM – 2:00 PM \nLocation:\nMt. Willard Trail\nCrawford Notch Station\, Crawford Notch Rd\, Carroll\, NH 03598 \nRegistration Link: Signups are Now Closed for this Event \nQuestions?: Email Linda: linda.tupper@thesummitproject.org \nDescription:  Join us for a winter Summit Project hike up Mt. Willard in Crawford Notch\, NH. We will be carrying hero stones and hosting a circle ceremony at the summit to share our heroes’ stories. \nHike Details: Mt. Willard: 3.1mi round trip\, 895ft of elevation gain\, and an absolutely stunning overlook of Crawford Notch and the Southern Presidental range at the top!\nDifficulty: Moderate and will require use of snowshoes or microspikes!  Please ensure you are properly equipped for winter hiking in the White Mountains before signing up.\nGroup size cap: 12 hikers\nAllTrails: https://www.alltrails.com/trail/us/new-hampshire/mount-willard?sh=glhgdp&utm_medium=trail_share&utm_source=alltrails_virality \nTribute Stones:\nTBD \n 
URL:https://thesummitproject.org/event/mt-willard-hike/
LOCATION:Mt. Willard\, Willard Mt Trail Crawford Notch Station\, Crawford Notch Rd\, Carroll\, NH\, 03598\, United States
CATEGORIES:Hosted,The Summit Project Events
ATTACH;FMTTYPE=image/jpeg:https://thesummitproject.org/wp-content/uploads/2025/11/willardhike.jpg
ORGANIZER;CN="The Summit Project":MAILTO:info@thesummitproject.org
END:VEVENT
BEGIN:VEVENT
DTSTART;TZID=America/New_York:20260328T120000
DTEND;TZID=America/New_York:20260328T170000
DTSTAMP:20260422T105026
CREATED:20260313T122553Z
LAST-MODIFIED:20260313T122553Z
UID:10000389-1774699200-1774717200@thesummitproject.org
SUMMARY:Maine Mariners - Cross Insurance Arena Concessions
DESCRIPTION:Event Name: Maine Mariners – Cross Insurance Arena Concessions \nEvent Type: Public \nEvent Date: Saturday March 28th\, 2026 \nTime: 12:00 p.m. – 5:00 p.m. \nLocation:\nCross Insurance Arena\n1 Civic Center Square\nPortland\, ME 04101 \nVolunteer Signup Link: volunteersignup.org/4YCEL \nDescription: TSP volunteers will be running the large concession at the Cross Insurance Arena when the Maine Mariners face off against the Greensboro Gargoyles! Come see the game and stop by to say hello if you can make it! TSP receives 10% of all concession sales from our booth on this night. Always a great time with the TSP family! \nMeet in parking lot at 11:45 a.m. \nTribute Stones:\nN/A \n  \nWe are always looking for additional help for these fundraising events! 12 volunteers are required at each event in order to support. Email mark.losacco@thesummitproject.org if you have questions! \n  \n  \n 
URL:https://thesummitproject.org/event/maine-mariners-cross-insurance-arena-concessions-60/
LOCATION:Cross Insurance Arena\, 1 Civic Center Square\, Portland\, ME\, 04101\, United States
CATEGORIES:Hosted,Volunteer Opportunity
ATTACH;FMTTYPE=image/jpeg:https://thesummitproject.org/wp-content/uploads/2026/03/Concessions.jpg
END:VEVENT
END:VCALENDAR