BEGIN:VCALENDAR
VERSION:2.0
PRODID:-//The Summit Project - ECPv6.15.20//NONSGML v1.0//EN
CALSCALE:GREGORIAN
METHOD:PUBLISH
X-ORIGINAL-URL:https://thesummitproject.org
X-WR-CALDESC:Events for The Summit Project
REFRESH-INTERVAL;VALUE=DURATION:PT1H
X-Robots-Tag:noindex
X-PUBLISHED-TTL:PT1H
BEGIN:VTIMEZONE
TZID:UTC
BEGIN:STANDARD
TZOFFSETFROM:+0000
TZOFFSETTO:+0000
TZNAME:UTC
DTSTART:20250101T000000
END:STANDARD
END:VTIMEZONE
BEGIN:VTIMEZONE
TZID:America/New_York
BEGIN:DAYLIGHT
TZOFFSETFROM:-0500
TZOFFSETTO:-0400
TZNAME:EDT
DTSTART:20250309T070000
END:DAYLIGHT
BEGIN:STANDARD
TZOFFSETFROM:-0400
TZOFFSETTO:-0500
TZNAME:EST
DTSTART:20251102T060000
END:STANDARD
BEGIN:DAYLIGHT
TZOFFSETFROM:-0500
TZOFFSETTO:-0400
TZNAME:EDT
DTSTART:20260308T070000
END:DAYLIGHT
BEGIN:STANDARD
TZOFFSETFROM:-0400
TZOFFSETTO:-0500
TZNAME:EST
DTSTART:20261101T060000
END:STANDARD
BEGIN:DAYLIGHT
TZOFFSETFROM:-0500
TZOFFSETTO:-0400
TZNAME:EDT
DTSTART:20270314T070000
END:DAYLIGHT
BEGIN:STANDARD
TZOFFSETFROM:-0400
TZOFFSETTO:-0500
TZNAME:EST
DTSTART:20271107T060000
END:STANDARD
END:VTIMEZONE
BEGIN:VEVENT
DTSTART;TZID=UTC:20260103T130000
DTEND;TZID=UTC:20260103T143000
DTSTAMP:20260422T185339
CREATED:20251230T223307Z
LAST-MODIFIED:20251230T223941Z
UID:10000384-1767445200-1767450600@thesummitproject.org
SUMMARY:"A Journey to Remember" Docufilm Viewing at Old Town High School
DESCRIPTION:Event Name: “A Journey to Remember” Docufilm Viewing at Old Town High School \nEvent Type: Public \nEvent Date: Saturday\, January 3rd 2026 \nTime: 1:00 PM \nLocation:\nOld Town High School\n203 Stillwater Ave\nOld Town\, ME 04468 \nRegistration Link: Free\, No Tickets Necessary!\n(To Support the Mission of The Summit Project: https://thesummitproject.org/home/support/) \nDescription:\n \n\nJoin us for a special free showing of our docufilm “A Journey to Remember” on Saturday\, January 3rd at 1pm at Old Town High School in Old Town\, Maine! The showing will be held in the school cafeteria. Look for signs directing you where to park for this event!\n\n \n\n\n\nOld Town High School is currently hosting our Honor Case and has been sharing our mission through showing our docufilm with their students this past month. We are SO excited to share this with our community and look forward to seeing you all there!\n\n \n\n\n\n“A Journey To Remember” is a short docufilm created by The Summit Project that illustrates the personal experiences of (3) Gold Star family members as they navigate through the challenges of both grieving and remembrance following the unexpected loss of their loved ones. In addition\, each story is accompanied by the extraordinary way that their communities rally around these families in resounding support.\n\n\n 
URL:https://thesummitproject.org/event/a-journey-to-remember-docufilm-viewing-at-the-1932-criterion-theatre/
LOCATION:Old Town High School\, 203 Stillwater Ave\, Old Town\, 04468\, United States
CATEGORIES:Hosted
ATTACH;FMTTYPE=image/png:https://thesummitproject.org/wp-content/uploads/2025/12/journey-1.png
END:VEVENT
BEGIN:VEVENT
DTSTART;TZID=America/New_York:20260103T160000
DTEND;TZID=America/New_York:20260103T210000
DTSTAMP:20260422T185339
CREATED:20251207T140226Z
LAST-MODIFIED:20251207T140226Z
UID:10000380-1767456000-1767474000@thesummitproject.org
SUMMARY:Maine Mariners - Cross Insurance Arena Concessions
DESCRIPTION:Event Name: Maine Mariners – Cross Insurance Arena Concessions \nEvent Type: Public \nEvent Date: Saturday\, January 3rd\, 2026 \nTime: 4:00 p.m. – 9:00 p.m. \nLocation:\nCross Insurance Arena\n1 Civic Center Square\nPortland\, ME 04101 \nVolunteer Signup Link: volunteersignup.org/MHMTE \nDescription: TSP volunteers will be running the large concession at the Cross Insurance Arena when the Maine Mariners face off against the Adirondack Thunder on Under The Sea Night! Come see the game and stop by to say hello if you can make it! TSP receives 10% of all concession sales from our booth on this night. Always a great time with the TSP family! \nMeet in parking lot at 3:45 p.m. \nTribute Stones:\nN/A \n  \nWe are always looking for additional help for these fundraising events! 12 volunteers are required at each event in order to support. Email sarah.hanson@thesummitproject.org if you would like to help! \n  \n  \n 
URL:https://thesummitproject.org/event/maine-mariners-cross-insurance-arena-concessions-55/
LOCATION:Cross Insurance Arena\, 1 Civic Center Square\, Portland\, ME\, 04101\, United States
CATEGORIES:Hosted,Volunteer Opportunity
ATTACH;FMTTYPE=image/jpeg:https://thesummitproject.org/wp-content/uploads/2025/10/concessions2025.jpg
END:VEVENT
END:VCALENDAR