BEGIN:VCALENDAR
VERSION:2.0
PRODID:-//The Summit Project - ECPv6.15.20//NONSGML v1.0//EN
CALSCALE:GREGORIAN
METHOD:PUBLISH
X-WR-CALNAME:The Summit Project
X-ORIGINAL-URL:https://thesummitproject.org
X-WR-CALDESC:Events for The Summit Project
REFRESH-INTERVAL;VALUE=DURATION:PT1H
X-Robots-Tag:noindex
X-PUBLISHED-TTL:PT1H
BEGIN:VTIMEZONE
TZID:America/New_York
BEGIN:DAYLIGHT
TZOFFSETFROM:-0500
TZOFFSETTO:-0400
TZNAME:EDT
DTSTART:20240310T070000
END:DAYLIGHT
BEGIN:STANDARD
TZOFFSETFROM:-0400
TZOFFSETTO:-0500
TZNAME:EST
DTSTART:20241103T060000
END:STANDARD
BEGIN:DAYLIGHT
TZOFFSETFROM:-0500
TZOFFSETTO:-0400
TZNAME:EDT
DTSTART:20250309T070000
END:DAYLIGHT
BEGIN:STANDARD
TZOFFSETFROM:-0400
TZOFFSETTO:-0500
TZNAME:EST
DTSTART:20251102T060000
END:STANDARD
BEGIN:DAYLIGHT
TZOFFSETFROM:-0500
TZOFFSETTO:-0400
TZNAME:EDT
DTSTART:20260308T070000
END:DAYLIGHT
BEGIN:STANDARD
TZOFFSETFROM:-0400
TZOFFSETTO:-0500
TZNAME:EST
DTSTART:20261101T060000
END:STANDARD
END:VTIMEZONE
BEGIN:VEVENT
DTSTART;TZID=America/New_York:20251102T130000
DTEND;TZID=America/New_York:20251102T180000
DTSTAMP:20260422T204224
CREATED:20250831T202151Z
LAST-MODIFIED:20251101T160057Z
UID:10000363-1762088400-1762106400@thesummitproject.org
SUMMARY:Maine Mariners - Cross Insurance Arena Concessions
DESCRIPTION:Event Name: Maine Mariners – Cross Insurance Arena Concessions \nEvent Type: Public \nEvent Date: Sunday\, November 2nd\, 2025 \nTime: 1:00 p.m. – 6:00 p.m. \nLocation:\nCross Insurance Arena\n1 Civic Center Square\nPortland\, ME 04101 \nRegistration Link: N/A \nVolunteer Link: volunteersignup.org/DTEL9 \nDescription: TSP volunteers will be running the large concession at the Cross Insurance Arena when the Maine Mariners face off against the Reading Royals on Military Night! Come see the game and stop by to say hello if you can make it! TSP receives 10% of all concession sales from our booth on this night. Always a great time with the TSP family! Meet in parking lot at 12:45 p.m. \nTribute Stones:\nN/A \n  \nWe are always looking for additional help for these fundraising events! 15 volunteers are required at each event in order to support. Email sarah.hanson@thesummitproject.org if you would like to help! \n  \n 
URL:https://thesummitproject.org/event/maine-mariners-cross-insurance-arena-concessions-52/
LOCATION:Cross Insurance Arena\, 1 Civic Center Square\, Portland\, ME\, 04101\, United States
CATEGORIES:Hosted,Volunteer Opportunity
ATTACH;FMTTYPE=image/jpeg:https://thesummitproject.org/wp-content/uploads/2025/10/concessions2025.jpg
END:VEVENT
END:VCALENDAR