BEGIN:VCALENDAR
VERSION:2.0
PRODID:-//The Summit Project - ECPv6.15.20//NONSGML v1.0//EN
CALSCALE:GREGORIAN
METHOD:PUBLISH
X-WR-CALNAME:The Summit Project
X-ORIGINAL-URL:https://thesummitproject.org
X-WR-CALDESC:Events for The Summit Project
REFRESH-INTERVAL;VALUE=DURATION:PT1H
X-Robots-Tag:noindex
X-PUBLISHED-TTL:PT1H
BEGIN:VTIMEZONE
TZID:America/New_York
BEGIN:DAYLIGHT
TZOFFSETFROM:-0500
TZOFFSETTO:-0400
TZNAME:EDT
DTSTART:20240310T070000
END:DAYLIGHT
BEGIN:STANDARD
TZOFFSETFROM:-0400
TZOFFSETTO:-0500
TZNAME:EST
DTSTART:20241103T060000
END:STANDARD
BEGIN:DAYLIGHT
TZOFFSETFROM:-0500
TZOFFSETTO:-0400
TZNAME:EDT
DTSTART:20250309T070000
END:DAYLIGHT
BEGIN:STANDARD
TZOFFSETFROM:-0400
TZOFFSETTO:-0500
TZNAME:EST
DTSTART:20251102T060000
END:STANDARD
BEGIN:DAYLIGHT
TZOFFSETFROM:-0500
TZOFFSETTO:-0400
TZNAME:EDT
DTSTART:20260308T070000
END:DAYLIGHT
BEGIN:STANDARD
TZOFFSETFROM:-0400
TZOFFSETTO:-0500
TZNAME:EST
DTSTART:20261101T060000
END:STANDARD
END:VTIMEZONE
BEGIN:VTIMEZONE
TZID:UTC
BEGIN:STANDARD
TZOFFSETFROM:+0000
TZOFFSETTO:+0000
TZNAME:UTC
DTSTART:20240101T000000
END:STANDARD
END:VTIMEZONE
BEGIN:VEVENT
DTSTART;TZID=America/New_York:20250412T163000
DTEND;TZID=America/New_York:20250412T230000
DTSTAMP:20260422T164045
CREATED:20250324T143419Z
LAST-MODIFIED:20250324T143553Z
UID:10000343-1744475400-1744498800@thesummitproject.org
SUMMARY:Killswitch Engage Concert - Cross Insurance Arena Concessions
DESCRIPTION:Event Name: Killswitch Engage Concert – Cross Insurance Arena Concessions \nEvent Type: Public \nEvent Date: Saturday\, April 12th\, 2025 \nTime: 4:30 p.m. – 11:00 p.m. \nLocation:\nCross Insurance Arena\n1 Civic Center Square\nPortland\, ME 04101 \nRegistration Link: N/A \nDescription: TSP volunteers will be running concessions at the Cross Insurance Arena as three-time Grammy nominated hard rock heavyweight\, Killswitch Engage\, takes the stage with special guests Kublai Khan TX\, Fit For a King\, and Frozen Soul. Stop by and say hi if you are at this event. TSP receives 10% of all concession sales from our booth on this night. Always a great time with the TSP family! Meet in parking lot at 4:15 p.m. \nTribute Stones:\nN/A \n  \nWe are always looking for additional help for these fundraising events! 15 volunteers are required at each event in order to support. Email greg@thesummitproject.org if you would like to help! \n \n 
URL:https://thesummitproject.org/event/killswitch-engage-concert-cross-insurance-arena-concessions/
LOCATION:Cross Insurance Arena\, 1 Civic Center Square\, Portland\, ME\, 04101\, United States
CATEGORIES:Hosted,Volunteer Opportunity
ATTACH;FMTTYPE=image/jpeg:https://thesummitproject.org/wp-content/uploads/2025/03/KillswitchEngage2014-e1742826946579.jpg
END:VEVENT
BEGIN:VEVENT
DTSTART;TZID=America/New_York:20250404T170000
DTEND;TZID=America/New_York:20250404T220000
DTSTAMP:20260422T164045
CREATED:20250324T142409Z
LAST-MODIFIED:20250324T142443Z
UID:10000342-1743786000-1743804000@thesummitproject.org
SUMMARY:Maine Mariners - Cross Insurance Arena Concessions
DESCRIPTION:Event Name: Maine Mariners – Cross Insurance Arena Concessions \nEvent Type: Public \nEvent Date: Friday\, April 4th\, 2025 \nTime: 5:00 p.m. – 10:00 p.m. \nLocation:\nCross Insurance Arena\n1 Civic Center Square\nPortland\, ME 04101 \nRegistration Link: N/A \nDescription: TSP volunteers will be running the large concession at the Cross Insurance Arena when the Maine Mariners face off against the Trois-Rivieres Lions! Come see the game and stop by to say hello if you can make it! TSP receives 10% of all concession sales from our booth on this night. Always a great time with the TSP family! Meet in parking lot at 4:45 p.m. \nTribute Stones:\nN/A \n  \nWe are always looking for additional help for these fundraising events! 15 volunteers are required at each event in order to support. Email greg@thesummitproject.org if you would like to help! \n \n 
URL:https://thesummitproject.org/event/maine-mariners-cross-insurance-arena-concessions-50/
LOCATION:Cross Insurance Arena\, 1 Civic Center Square\, Portland\, ME\, 04101\, United States
CATEGORIES:Hosted,Volunteer Opportunity
ATTACH;FMTTYPE=image/png:https://thesummitproject.org/wp-content/uploads/2024/10/Maine_Mariners_ECHL_logo.svg_-e1728956149211.png
END:VEVENT
BEGIN:VEVENT
DTSTART;TZID=America/New_York:20250328T170000
DTEND;TZID=America/New_York:20250328T230000
DTSTAMP:20260422T164045
CREATED:20250216T214538Z
LAST-MODIFIED:20250314T012546Z
UID:10000333-1743181200-1743202800@thesummitproject.org
SUMMARY:Brantley Gilbert Tour - Cross Insurance Arena Concessions
DESCRIPTION:Event Name: Brantley Gilbert Tour – Cross Insurance Arena Concessions \nEvent Type: Public \nEvent Date: Friday\, March 28th\, 2025 \nTime: 5:00 p.m. – 11:00 p.m. \nLocation:\nCross Insurance Arena\n1 Civic Center Square\nPortland\, ME 04101 \nRegistration Link: N/A \nDescription: TSP volunteers will be running concessions at the Cross Insurance Arena as country music star\, Brantley Gilbert\, takes the stage during his red hot Tattoos Tour! Joining him are special guests Travis Denning and Austin Snell. Stop by and say hi if you are at this event. TSP receives 10% of all concession sales from our booth on this night. Always a great time with the TSP family! Meet in parking lot at 4:45 p.m. \nTribute Stones:\nN/A \n  \nWe are always looking for additional help for these fundraising events! 15 volunteers are required at each event in order to support. Email greg@thesummitproject.org if you would like to help! \n \n 
URL:https://thesummitproject.org/event/brantley-gilbert-tour-cross-insurance-arena-concessions/
LOCATION:Cross Insurance Arena\, 1 Civic Center Square\, Portland\, ME\, 04101\, United States
CATEGORIES:Hosted,Volunteer Opportunity
ATTACH;FMTTYPE=image/jpeg:https://thesummitproject.org/wp-content/uploads/2025/02/ab6761610000e5eb28402571625bf9e42a443e20-e1739742440380.jpg
END:VEVENT
BEGIN:VEVENT
DTSTART;TZID=America/New_York:20250322T130000
DTEND;TZID=America/New_York:20250322T160000
DTSTAMP:20260422T164045
CREATED:20240525T062206Z
LAST-MODIFIED:20250314T012616Z
UID:10000280-1742648400-1742659200@thesummitproject.org
SUMMARY:TSP Friendsgiving
DESCRIPTION:Event Name: TSP Friendsgiving \nEvent Type: Public \nEvent Date: Saturday\, March 22nd\, 2025 \nTime: 1:00 p.m. 4:00 p.m. EST \nLocation:\nBurrows Skidgel American Legion Post 105\n82 North Street\nNewport\, ME 04953 \nRegistration Link: N/A \nDescription: The Summit Project would love for you to join us to break bread and celebrate the season at our fourth annual Friendsgiving potluck dinner. We will provide the essentials including turkey and ham and welcome you to share your family’s traditional favorites! Feel free to bring a recipe card to share (so long as you don’t get in trouble with Grandma). If anyone is interested in bringing any items\, please let us know. \nTribute Stones:\nN/A \nIf you’re interested in this private event and would like to know more\,\nplease email betsy@thesummitproject.org
URL:https://thesummitproject.org/event/tsp-friendsgiving-4/
LOCATION:Burrows Skidgel American Legion Post 105\, 82 North Street\, Newport\, 04953\, United States
CATEGORIES:Hosted,Volunteer Opportunity
ATTACH;FMTTYPE=image/png:https://thesummitproject.org/wp-content/uploads/2022/10/Friendsgiving-e1686611699913.png
END:VEVENT
BEGIN:VEVENT
DTSTART;TZID=America/New_York:20250321T170000
DTEND;TZID=America/New_York:20250321T220000
DTSTAMP:20260422T164045
CREATED:20250216T213850Z
LAST-MODIFIED:20250313T140202Z
UID:10000332-1742576400-1742594400@thesummitproject.org
SUMMARY:Maine Mariners - Cross Insurance Arena Concessions
DESCRIPTION:Event Name: Maine Mariners – Cross Insurance Arena Concessions \nEvent Type: Public \nEvent Date: Friday\, March 21st\, 2025 \nTime: 5:00 p.m. – 10:00 p.m. \nLocation:\nCross Insurance Arena\n1 Civic Center Square\nPortland\, ME 04101 \nRegistration Link: N/A \nDescription: TSP volunteers will be running the large concession at the Cross Insurance Arena when the Maine Mariners face off against the Worcester Railers! Come see the game and stop by to say hello if you can make it! TSP receives 10% of all concession sales from our booth on this night. Always a great time with the TSP family! Meet in parking lot at 4:45 p.m. \nTribute Stones:\nN/A \n  \nWe are always looking for additional help for these fundraising events! 15 volunteers are required at each event in order to support.\nEmail greg@thesummitproject.org if you would like to help! \n \n 
URL:https://thesummitproject.org/event/maine-mariners-cross-insurance-arena-concessions-48/
LOCATION:Cross Insurance Arena\, 1 Civic Center Square\, Portland\, ME\, 04101\, United States
CATEGORIES:Hosted,Volunteer Opportunity
ATTACH;FMTTYPE=image/png:https://thesummitproject.org/wp-content/uploads/2024/10/Maine_Mariners_ECHL_logo.svg_-e1728956149211.png
END:VEVENT
BEGIN:VEVENT
DTSTART;TZID=America/New_York:20250315T170000
DTEND;TZID=America/New_York:20250315T230000
DTSTAMP:20260422T164045
CREATED:20250203T042242Z
LAST-MODIFIED:20250314T012706Z
UID:10000330-1742058000-1742079600@thesummitproject.org
SUMMARY:Kevin Hart Comedy Show - Cross Insurance Arena Concessions
DESCRIPTION:Event Name: Kevin Hart Comedy Show – Cross Insurance Arena Concessions \nEvent Type: Public \nEvent Date: Saturday\, March 15th\, 2025 \nTime: 5:00 p.m. – 11:00 p.m. \nLocation:\nCross Insurance Arena\n1 Civic Center Square\nPortland\, ME 04101 \nRegistration Link: N/A \nDescription: TSP volunteers will be running concessions at the Cross Insurance Arena as icon comedian\, Kevin Hart\, takes the stage! Stop by and say hi if you are at this event. TSP receives 10% of all concession sales from our booth on this night. Always a great time with the TSP family! Meet in parking lot at 4:45 p.m. \nTribute Stones:\nN/A \n  \nWe are always looking for additional help for these fundraising events! 15 volunteers are required at each event in order to support. Email greg@thesummitproject.org if you would like to help! \n \n 
URL:https://thesummitproject.org/event/kevin-hart-comedy-show-cross-insurance-arena-concessions/
LOCATION:Cross Insurance Arena\, 1 Civic Center Square\, Portland\, ME\, 04101\, United States
CATEGORIES:Hosted,Volunteer Opportunity
ATTACH;FMTTYPE=image/jpeg:https://thesummitproject.org/wp-content/uploads/2025/02/Kevin-Hart2-e1738556540716.jpg
END:VEVENT
BEGIN:VEVENT
DTSTART;TZID=UTC:20250309T100000
DTEND;TZID=UTC:20250309T150000
DTSTAMP:20260422T164045
CREATED:20250129T050808Z
LAST-MODIFIED:20250222T020307Z
UID:10000324-1741514400-1741532400@thesummitproject.org
SUMMARY:5th Annual TSP Cornhole Tournament
DESCRIPTION:Event Name: 5th Annual TSP Cornhole Tournament \nEvent Type: Public \nEvent Date: Sunday\, March 9th\, 2025 \nTime: 10:00 a.m. – 3:00 p.m. \nLocation:\nXL Sports World\n400 North St\nSaco\, ME 04072 \nRegistration Link: https://share.scoreholio.com/FPClsy14oQb \nDescription: Come join us for our 5th annual TSP Cornhole Tournament at XL Sports World in Saco\, ME. All proceeds of this event will benefit The Summit Project. \nTournament will be conducted as 4 round switch with double elimination playoff brackets. On-site registration only on day of event. $25 per person\, cash only. \n***There will be (3) prizes available***\n1st Place: $300 (for team)\n2nd Place: $200 (for team)\n3rd Place: TSP Challenge Coins \n32 Teams Competing\nLive Auctions\nSilent Auctions\n50/50 Raffles\nRaffle Prizes\nAirmail for prizes\nDrawings/Giveaways\nFood\nMusic\nTSP Merch Sales\nand a whole lot more! \nTribute Stones:\nN/A \nCome out and support a great cause while throwing some bags with a bunch of great people!
URL:https://thesummitproject.org/event/5th-annual-tsp-cornhole-tournament/
LOCATION:XL Sports World\, 400 North St\, Saco\, 04072\, United States
CATEGORIES:Hosted,Volunteer Opportunity
ATTACH;FMTTYPE=image/png:https://thesummitproject.org/wp-content/uploads/2025/01/MEC-e1738127343224.png
END:VEVENT
BEGIN:VEVENT
DTSTART;TZID=UTC:20250308T160000
DTEND;TZID=UTC:20250308T210000
DTSTAMP:20260422T164045
CREATED:20250219T043258Z
LAST-MODIFIED:20250219T043329Z
UID:10000335-1741449600-1741467600@thesummitproject.org
SUMMARY:Maine Mariners - Cross Insurance Arena Concessions
DESCRIPTION:Event Name: Maine Mariners – Cross Insurance Arena Concessions \nEvent Type: Public \nEvent Date: Saturday\, March 8th\, 2025 \nTime: 4:00 p.m. – 9:00 p.m. \nLocation:\nCross Insurance Arena\n1 Civic Center Square\nPortland\, ME 04101 \nRegistration Link: N/A \nDescription: TSP volunteers will be running the large concession at the Cross Insurance Arena when the Maine Mariners face off against the Reading Royals! Come see the game and stop by to say hello if you can make it! TSP receives 10% of all concession sales from our booth on this night. Always a great time with the TSP family! Meet in parking lot at 3:45 p.m. \nTribute Stones:\nN/A \n  \nWe are always looking for additional help for these fundraising events! 15 volunteers are required at each event in order to support. Email greg@thesummitproject.org if you would like to help! \n \n 
URL:https://thesummitproject.org/event/maine-mariners-cross-insurance-arena-concessions-49/
LOCATION:Cross Insurance Arena\, 1 Civic Center Square\, Portland\, ME\, 04101\, United States
CATEGORIES:Hosted,Volunteer Opportunity
ATTACH;FMTTYPE=image/png:https://thesummitproject.org/wp-content/uploads/2024/10/Maine_Mariners_ECHL_logo.svg_-e1728956149211.png
END:VEVENT
BEGIN:VEVENT
DTSTART;TZID=UTC:20250308T083000
DTEND;TZID=UTC:20250308T150000
DTSTAMP:20260422T164045
CREATED:20250219T042526Z
LAST-MODIFIED:20250219T042606Z
UID:10000334-1741422600-1741446000@thesummitproject.org
SUMMARY:MPA Hockey State Championships - Cross Insurance Arena Concessions
DESCRIPTION:Event Name: MPA Hockey State Championships – Cross Insurance Arena Concessions \nEvent Type: Public \nEvent Date: Saturday\, March 8th\, 2025 \nTime: 8:30 a.m. – 3:00 p.m. \nLocation:\nCross Insurance Arena\n1 Civic Center Square\nPortland\, ME 04101 \nRegistration Link: N/A \nDescription: TSP volunteers will be running the large concession at the Cross Insurance Arena during this year’s Boys’ High School Class A & B Hockey State Championship games! Come see these kids in action and stop by to say hello if you can make it! TSP receives 10% of all concession sales from our booth on this night. Always a great time with the TSP family! Seeking 10 volunteers for this event. \nTribute Stones:\nN/A \n  \nWe are always looking for additional help for these fundraising events!\nEmail greg@thesummitproject.org if you would like to help! \n \n 
URL:https://thesummitproject.org/event/mpa-hockey-state-championships-cross-insurance-arena-concessions/
LOCATION:Cross Insurance Arena\, 1 Civic Center Square\, Portland\, ME\, 04101\, United States
CATEGORIES:Hosted,Volunteer Opportunity
ATTACH;FMTTYPE=image/png:https://thesummitproject.org/wp-content/uploads/2025/02/MPA-Hockey-e1739939159921.png
END:VEVENT
BEGIN:VEVENT
DTSTART;TZID=UTC:20250301T110000
DTEND;TZID=UTC:20250301T210000
DTSTAMP:20260422T164045
CREATED:20250216T203346Z
LAST-MODIFIED:20250216T203536Z
UID:10000331-1740826800-1740862800@thesummitproject.org
SUMMARY:MPA Basketball State Championships - Cross Insurance Arena Concessions
DESCRIPTION:Event Name: MPA Basketball State Championships – Cross Insurance Arena Concessions \nEvent Type: Public \nEvent Date: Saturday\, March 1st\, 2025 \nTime:\nShift 1 (Boys/Girls Class B Championship):  11:00 a.m. – 4:00 p.m.\nShift 2 (Boys/Girls Class AA Championship):  4:00 p.m. – 9:00 p.m. \nLocation:\nCross Insurance Arena\n1 Civic Center Square\nPortland\, ME 04101 \nRegistration Link: N/A \nDescription: TSP volunteers will be running the large concession at the Cross Insurance Arena during this year’s Boys and Girls High School State Basketball Championship games! Come see these kids in action and stop by to say hello if you can make it! TSP receives 10% of all concession sales from our booth on this night. Always a great time with the TSP family! With a full day of games ahead\, we will split our team of volunteers into two shifts on this day. Seeking 10 volunteers for each shift. \nTribute Stones:\nN/A \n  \nWe are always looking for additional help for these fundraising events!\nEmail greg@thesummitproject.org if you would like to help! \n \n 
URL:https://thesummitproject.org/event/mpa-basketball-state-championships-cross-insurance-arena-concessions/
LOCATION:Cross Insurance Arena\, 1 Civic Center Square\, Portland\, ME\, 04101\, United States
CATEGORIES:Hosted,Volunteer Opportunity
ATTACH;FMTTYPE=image/png:https://thesummitproject.org/wp-content/uploads/2025/02/BASKETBALL-STATE-865-x-520-px-3_1-233ac90c01-e1739738131891.png
END:VEVENT
BEGIN:VEVENT
DTSTART;TZID=UTC:20250223T130000
DTEND;TZID=UTC:20250223T160000
DTSTAMP:20260422T164045
CREATED:20241218T004041Z
LAST-MODIFIED:20250121T015314Z
UID:10000314-1740315600-1740326400@thesummitproject.org
SUMMARY:"A Journey to Remember" Docufilm Viewing at UMaine Orono
DESCRIPTION:Event Name: “A Journey to Remember” Docufilm Viewing at UMaine Orono \nEvent Type: Public \nEvent Date: Sunday\, Feb 23rd\, 2025 \nTime: 1:00 p.m. – 4:00 p.m. \nLocation:\nCollins Center for the Arts\n2 Flagstaff Rd\nOrono\, ME 04473 \nRegistration Link: https://www.eventbrite.com/e/the-summit-project-presents-a-journey-to-remember-at-umaine-orono-tickets-1114868935999 \nDescription:\n“A Journey To Remember” is a short docufilm created by The Summit Project that illustrates the personal experiences of (3) Gold Star family members as they navigate through the challenges of both grieving and remembrance following the unexpected loss of their loved ones. In addition\, each story is accompanied by the extraordinary way that their communities rally around these families in resounding support. \nOn Sunday\, Feb 23rd\, 2025\, The Summit Project will be presenting their short docufilm “A Journey to Remember” at Collins Center for the Arts on the University of Maine Orono campus. Pre-registration is required for this event in order to provide us ability to create proper setup of seating at the venue. Tickets are free of charge and can be secured using above link. \nTribute Stones: N/A \n 
URL:https://thesummitproject.org/event/a-journey-to-remember-docufilm-viewing-at-umaine-orono/
LOCATION:Collins Center for the Arts\, 2 Flagstaff Rd\, Orono\, 04473\, United States
CATEGORIES:Hosted,Volunteer Opportunity
ATTACH;FMTTYPE=image/jpeg:https://thesummitproject.org/wp-content/uploads/2024/12/CCA-news-feature-e1734482543886.jpg
END:VEVENT
BEGIN:VEVENT
DTSTART;TZID=UTC:20250208T160000
DTEND;TZID=UTC:20250208T210000
DTSTAMP:20260422T164045
CREATED:20250203T035143Z
LAST-MODIFIED:20250203T035143Z
UID:10000327-1739030400-1739048400@thesummitproject.org
SUMMARY:Maine Mariners - Cross Insurance Arena Concessions
DESCRIPTION:Event Name: Maine Mariners – Cross Insurance Arena Concessions \nEvent Type: Public \nEvent Date: Saturday\, February 8th\, 2025 \nTime: 4:00 p.m. – 9:00 p.m. \nLocation:\nCross Insurance Arena\n1 Civic Center Square\nPortland\, ME 04101 \nRegistration Link: N/A \nDescription: TSP volunteers will be running the large concession at the Cross Insurance Arena when the Maine Mariners face off against the Norfolk Admirals! Come see the game and stop by to say hello if you can make it! TSP receives 10% of all concession sales from our booth on this night. Always a great time with the TSP family! Meet in parking lot at 3:45 p.m. \nTribute Stones:\nN/A \n  \nWe are always looking for additional help for these fundraising events! 15 volunteers are required at each event in order to support.\nEmail greg@thesummitproject.org if you would like to help! \n \n 
URL:https://thesummitproject.org/event/maine-mariners-cross-insurance-arena-concessions-47/
LOCATION:Cross Insurance Arena\, 1 Civic Center Square\, Portland\, ME\, 04101\, United States
CATEGORIES:Hosted,Volunteer Opportunity
ATTACH;FMTTYPE=image/png:https://thesummitproject.org/wp-content/uploads/2024/10/Maine_Mariners_ECHL_logo.svg_-e1728956149211.png
END:VEVENT
BEGIN:VEVENT
DTSTART;TZID=UTC:20250207T170000
DTEND;TZID=UTC:20250207T220000
DTSTAMP:20260422T164045
CREATED:20250121T015529Z
LAST-MODIFIED:20250203T034950Z
UID:10000321-1738947600-1738965600@thesummitproject.org
SUMMARY:Maine Mariners - Cross Insurance Arena Concessions
DESCRIPTION:Event Name: Maine Mariners – Cross Insurance Arena Concessions \nEvent Type: Public \nEvent Date: Friday\, February 7th\, 2025 \nTime: 5:00 p.m. – 10:00 p.m. \nLocation:\nCross Insurance Arena\n1 Civic Center Square\nPortland\, ME 04101 \nRegistration Link: N/A \nDescription: TSP volunteers will be running the large concession at the Cross Insurance Arena when the Maine Mariners face off against the Norfolk Admirals! Come see the game and stop by to say hello if you can make it! TSP receives 10% of all concession sales from our booth on this night. Always a great time with the TSP family! Meet in parking lot at 4:45 p.m. \nTribute Stones:\nN/A \n  \nWe are always looking for additional help for these fundraising events! 6 volunteers are required at this event in order to support.\nEmail greg@thesummitproject.org if you would like to help! \n \n 
URL:https://thesummitproject.org/event/maine-mariners-cross-insurance-arena-concessions-45/
LOCATION:Cross Insurance Arena\, 1 Civic Center Square\, Portland\, ME\, 04101\, United States
CATEGORIES:Hosted,Volunteer Opportunity
ATTACH;FMTTYPE=image/png:https://thesummitproject.org/wp-content/uploads/2024/10/Maine_Mariners_ECHL_logo.svg_-e1728956149211.png
END:VEVENT
BEGIN:VEVENT
DTSTART;TZID=UTC:20250202T130000
DTEND;TZID=UTC:20250202T180000
DTSTAMP:20260422T164045
CREATED:20250121T015124Z
LAST-MODIFIED:20250121T015124Z
UID:10000320-1738501200-1738519200@thesummitproject.org
SUMMARY:Maine Mariners - Cross Insurance Arena Concessions
DESCRIPTION:Event Name: Maine Mariners – Cross Insurance Arena Concessions \nEvent Type: Public \nEvent Date: Sunday\, February 2nd\, 2025 \nTime: 1:00 p.m. – 6:00 p.m. \nLocation:\nCross Insurance Arena\n1 Civic Center Square\nPortland\, ME 04101 \nRegistration Link: N/A \nDescription: TSP volunteers will be running the large concession at the Cross Insurance Arena when the Maine Mariners face off against the Worcester Railers! Come see the game and stop by to say hello if you can make it! TSP receives 10% of all concession sales from our booth on this night. Always a great time with the TSP family! Meet in parking lot at 12:45 p.m. \nTribute Stones:\nN/A \n  \nWe are always looking for additional help for these fundraising events! 15 volunteers are required at each event in order to support.\nEmail greg@thesummitproject.org if you would like to help! \n \n 
URL:https://thesummitproject.org/event/maine-mariners-cross-insurance-arena-concessions-44/
LOCATION:Cross Insurance Arena\, 1 Civic Center Square\, Portland\, ME\, 04101\, United States
CATEGORIES:Hosted,Volunteer Opportunity
ATTACH;FMTTYPE=image/png:https://thesummitproject.org/wp-content/uploads/2024/10/Maine_Mariners_ECHL_logo.svg_-e1728956149211.png
END:VEVENT
BEGIN:VEVENT
DTSTART;TZID=UTC:20250126T130000
DTEND;TZID=UTC:20250126T180000
DTSTAMP:20260422T164045
CREATED:20241230T022356Z
LAST-MODIFIED:20250128T013703Z
UID:10000318-1737896400-1737914400@thesummitproject.org
SUMMARY:Maine Mariners - Cross Insurance Arena Concessions
DESCRIPTION:Event Name: Maine Mariners – Cross Insurance Arena Concessions \nEvent Type: Public \nEvent Date: Sunday\, January 26th\, 2025 \nTime: 1:00 p.m. – 6:00 p.m. \nLocation:\nCross Insurance Arena\n1 Civic Center Square\nPortland\, ME 04101 \nRegistration Link: N/A \nDescription: TSP volunteers will be running the large concession at the Cross Insurance Arena when the Maine Mariners face off against the Trois-Rivieres Lions! Come see the game and stop by to say hello if you can make it! TSP receives 10% of all concession sales from our booth on this night. Always a great time with the TSP family! Meet in parking lot at 12:45 p.m. \nTribute Stones:\nN/A \n  \nWe are always looking for additional help for these fundraising events! 15 volunteers are required at each event in order to support.\nEmail greg@thesummitproject.org if you would like to help! \n  \n\n			\n				\n			\n			\n				\n			\n			\n				\n			\n		\n\n 
URL:https://thesummitproject.org/event/maine-mariners-cross-insurance-arena-concessions-43/
LOCATION:Cross Insurance Arena\, 1 Civic Center Square\, Portland\, ME\, 04101\, United States
CATEGORIES:Hosted,Volunteer Opportunity
ATTACH;FMTTYPE=image/png:https://thesummitproject.org/wp-content/uploads/2024/10/Maine_Mariners_ECHL_logo.svg_-e1728956149211.png
END:VEVENT
END:VCALENDAR