BEGIN:VCALENDAR
VERSION:2.0
PRODID:-//The Summit Project - ECPv6.15.20//NONSGML v1.0//EN
CALSCALE:GREGORIAN
METHOD:PUBLISH
X-WR-CALNAME:The Summit Project
X-ORIGINAL-URL:https://thesummitproject.org
X-WR-CALDESC:Events for The Summit Project
REFRESH-INTERVAL;VALUE=DURATION:PT1H
X-Robots-Tag:noindex
X-PUBLISHED-TTL:PT1H
BEGIN:VTIMEZONE
TZID:UTC
BEGIN:STANDARD
TZOFFSETFROM:+0000
TZOFFSETTO:+0000
TZNAME:UTC
DTSTART:20150101T000000
END:STANDARD
END:VTIMEZONE
BEGIN:VTIMEZONE
TZID:UTC
BEGIN:STANDARD
TZOFFSETFROM:+0000
TZOFFSETTO:+0000
TZNAME:UTC
DTSTART:20140101T000000
END:STANDARD
END:VTIMEZONE
BEGIN:VEVENT
DTSTART;TZID=UTC:20171111T090000
DTEND;TZID=UTC:20171111T090000
DTSTAMP:20260421T005749
CREATED:20171028T025338Z
LAST-MODIFIED:20171118T054258Z
UID:10000114-1510390800-1510390800@thesummitproject.org
SUMMARY:Greater Bangor Veteran's Day Parade
DESCRIPTION:Event Type: Public\nOn Saturday\, November 11th\, TSP volunteers will participate in the 2017 Greater Bangor Veteran’s Day Parade hosted by the Bangor High School Junior Reserve Officer Training Corps. \nThe parade will assemble at 9:00a on Vista Way in Brewer (Brewer Plaza) and step off at 10:15a to proceed down Wilson Street and cross the Chamberlain Bridge. From there the parade follows Main Street to State Street and ends on Exchange Street. The route is approximately 1.5 miles in total length. There will be a brief pause when the parade reaches a reviewing stand for a respectful ceremony. \nFor more information about this event\, please contact angel@thesummitproject.org
URL:https://thesummitproject.org/event/greater-bangor-veterans-day-parade/
CATEGORIES:Supporting
ATTACH;FMTTYPE=image/jpeg:https://thesummitproject.org/wp-content/uploads/2017/10/Bangor-Veterans-Day-Parade.jpg
END:VEVENT
BEGIN:VEVENT
DTSTART;TZID=UTC:20171028T083000
DTEND;TZID=UTC:20171028T123000
DTSTAMP:20260421T005749
CREATED:20171022T014153Z
LAST-MODIFIED:20171118T080901Z
UID:10000140-1509179400-1509193800@thesummitproject.org
SUMMARY:Cub Scouts Hike - Black Cap Mountain
DESCRIPTION:Event Type: Private\nOn Saturday\, October 28th\, members of Standish Cub Scouts pack 874 will trek 2.5 miles to the 2369′ summit of Black Cap Mountain in Conway\, NH carrying (8) tribute stones representing fallen heroes from all around the state of Maine. This event will be a part of their “Build a Hero” week of which these young scouts will learn and pay tribute to heroes of the local area. \n  \n\nStones to be carried during this event:\nArmy PFC Blaine N. B. Adams\nArmy Cpt John R. Brainard III\nNavy LCDR Robert E. Clukey\nArmy Sgt Tyler R. Curtis\nNavy PO1 Bryan J. Hobart\nArmy MSG Robert M. Horrigan\nUSCG FN Derek W. Russell\nUSMC LCpl Andrew J. Quasnitschka \n\n 
URL:https://thesummitproject.org/event/cub-scouts-hike-black-cap-mountain/
LOCATION:Black Cap Mountain\, Conway\, 03860\, United States
CATEGORIES:Supporting
ATTACH;FMTTYPE=image/jpeg:https://thesummitproject.org/wp-content/uploads/2017/10/Black-Cap-Trail-Head-e1510973879671.jpg
END:VEVENT
BEGIN:VEVENT
DTSTART;VALUE=DATE:20171014
DTEND;VALUE=DATE:20171015
DTSTAMP:20260421T005749
CREATED:20170831T214347Z
LAST-MODIFIED:20171118T071348Z
UID:10000105-1507939200-1508025599@thesummitproject.org
SUMMARY:TSP at Acadia National Park - 2017
DESCRIPTION:Event Type: Private\nTSP at ANP
URL:https://thesummitproject.org/event/tsp-at-acadia-national-park/
CATEGORIES:Hosted
ATTACH;FMTTYPE=image/jpeg:https://thesummitproject.org/wp-content/uploads/2017/09/Acadia-Sunset3.jpg
END:VEVENT
BEGIN:VEVENT
DTSTART;TZID=UTC:20170916T170000
DTEND;TZID=UTC:20170916T233000
DTSTAMP:20260421T005749
CREATED:20170925T053849Z
LAST-MODIFIED:20171118T074503Z
UID:10000103-1505581200-1505604600@thesummitproject.org
SUMMARY:Capital Ruck Tour 2017 - Augusta\, ME
DESCRIPTION:Event Type: Public\nCapital Ruck Tour 2017 was created by Danny Stokes (Cadre of GoRuck) to raise awareness and support for Operation Enduring Warrior – a 100% volunteer organization composed of current and former members of the military\, family members\, and patriotic citizens who wish to give back to our nation’s wounded veterans. Beginning with Olympia\, WA in February and ending at Sacremento\, CA in November of 2017\, Stokes and other members from the community will ruck 20 miles in all 50 states across America\, ending each ruck at the top steps of every state’s Capital building. For more information about the Capital Ruck Tour visit the official website at http://capitaltour2017.com/ \n\nStarting Point:\nBelgrade Central School\n 158 Depot Rd\n Belgrade\, ME 04917 \n\nRx Ruck = Complete 20 mile ruck in the allotted 7 hr time with Danny. \nScaled Ruck = Meet Danny at the 15 mile point at 2230 (10:30pm) and finish the last 5 miles with the team. Details on the 15 mile rally point will be distributed when the route is published. \nOther Requirements:\n– $30 per participant\n– 20 lbs per ruck (or 20kgs for the big boys and big girls)\n– Ruck must have reflective belt or lights attached\, for vehicle safety\n– Each event will start at exactly 1700hrs (5pm) for Rx and 2230 (10:30pm) for Scaled\n– Time cap of 7 hours to complete with patch ceremony at the end\n– 50% of the proceeds from the event go to Operation Enduring Warrior \nAbout Operation Enduring Warrior:\nOEW offers wounded veterans the opportunity to challenge themselves through various physically challenging events. OEW is made up of OEW Team Athletes\, Community Ambassadors and Veteran supporters who join alongside our Adaptive Athletes in these challenging events. To find out more click here: http://enduringwarrior.org/about/ \n  \n\nStones to be carried during this event:\nArmy Cpt Christopher S. Cash\nArmy Sgt Blair W. Emery\nNavy SO1 Patrick D. Feeks\nUSMC Cpl Mark R. Goyet\nUSMC Sgt Joel A. House\nArmy PFC Justin J. Kennie \n\n  \n\n			\n				\n			\n			\n				\n			\n			\n				\n			\n			\n				\n			\n			\n				\n			\n			\n				\n			\n			\n				\n			\n			\n				\n			\n			\n				\n			\n		\n\n 
URL:https://thesummitproject.org/event/capital-ruck-tour-2017-augusta-me/
CATEGORIES:Supporting
ATTACH;FMTTYPE=image/jpeg:https://thesummitproject.org/wp-content/uploads/2017/09/16601863_10158233831060261_4962044679596389404_o.jpg
END:VEVENT
BEGIN:VEVENT
DTSTART;TZID=UTC:20170911T073000
DTEND;TZID=UTC:20170911T133000
DTSTAMP:20260421T005749
CREATED:20170831T214249Z
LAST-MODIFIED:20171118T074724Z
UID:10000106-1505115000-1505136600@thesummitproject.org
SUMMARY:TSP at the University of Southern Maine 2017
DESCRIPTION:Event Type: Private\n 
URL:https://thesummitproject.org/event/tsp-at-the-university-of-southern-maine/
LOCATION:University of Southern Maine – Portland Campus\, 88 Bedford St\, Portland\, ME\, 04101\, United States
CATEGORIES:Hosted
ATTACH;FMTTYPE=image/jpeg:https://thesummitproject.org/wp-content/uploads/2017/08/Flyer.jpg
ORGANIZER;CN="University of Southern Maine Veterans Services":MAILTO:usm.veterans@maine.edu
END:VEVENT
BEGIN:VEVENT
DTSTART;TZID=UTC:20170910T080000
DTEND;TZID=UTC:20170910T140000
DTSTAMP:20260421T005749
CREATED:20170831T214124Z
LAST-MODIFIED:20170913T071600Z
UID:10000119-1505030400-1505052000@thesummitproject.org
SUMMARY:Honor the Fallen Ride 2017
DESCRIPTION:Event Type: Public\n \n  \n  \n 
URL:https://thesummitproject.org/event/honor-the-fallen-ride/
LOCATION:New England Outdoor Center – Millinocket\, Maine\, 30 Twin Pines Road\, Millinocket\, ME\, 04462\, United States
CATEGORIES:Hosted
ORGANIZER;CN="Summit Riders":MAILTO:scott.tarbox@thesummitproject.org
END:VEVENT
BEGIN:VEVENT
DTSTART;TZID=UTC:20170909T120000
DTEND;TZID=UTC:20170909T140000
DTSTAMP:20260421T005749
CREATED:20170831T214203Z
LAST-MODIFIED:20170913T040449Z
UID:10000142-1504958400-1504965600@thesummitproject.org
SUMMARY:Flags on the 48
DESCRIPTION:Event Type: Private\n \n  \n“On September 11th\, 2001 the consciousness of United States of America was undeniably altered by overwhelming and devastating acts of terrorism\, so far reaching in their intensity that our country will forever carry the scars. Thousands of lives were lost in a fleeting moment\, immeasurable families shattered and countless hearts broken. \nWe in the hiking community continue to honor the deceased with a tribute: flying the American flag atop all 48 four-thousand foot and higher mountains in New Hampshire on Sunday\, September 11. By demonstrating our steadfast unity in this challenging endeavor\, we also hope to express our unwavering support to the families\, friends and communities whose losses are beyond comprehension and whose suffering we remember in our hearts.” (2017\, Flags on the 48) \n  \n\n			\n				\n			\n			\n				\n			\n			\n				\n			\n			\n				\n			\n			\n				\n			\n			\n				\n			\n		\n\n 
URL:https://thesummitproject.org/event/flags-on-the-48/
LOCATION:Mount Washington Summit\, 1598 Mt Washington Auto Road\, Sargent's Purchase\, NH\, 03589\, United States
CATEGORIES:Supporting
END:VEVENT
BEGIN:VEVENT
DTSTART;VALUE=DATE:20170820
DTEND;VALUE=DATE:20170821
DTSTAMP:20260421T005749
CREATED:20170831T214048Z
LAST-MODIFIED:20170831T214048Z
UID:10000112-1503187200-1503273599@thesummitproject.org
SUMMARY:Run for our Fallen Heroes
DESCRIPTION:
URL:https://thesummitproject.org/event/run-for-our-fallen-heroes/
CATEGORIES:Supporting
END:VEVENT
BEGIN:VEVENT
DTSTART;VALUE=DATE:20170813
DTEND;VALUE=DATE:20170814
DTSTAMP:20260421T005749
CREATED:20170831T214001Z
LAST-MODIFIED:20170831T214001Z
UID:10000102-1502582400-1502668799@thesummitproject.org
SUMMARY:Husky Ruck Memorial 10K
DESCRIPTION:
URL:https://thesummitproject.org/event/husky-ruck-memorial-10k/
CATEGORIES:Supporting
END:VEVENT
BEGIN:VEVENT
DTSTART;VALUE=DATE:20170803
DTEND;VALUE=DATE:20170807
DTSTAMP:20260421T005749
CREATED:20170831T213916Z
LAST-MODIFIED:20170831T213916Z
UID:10000144-1501718400-1502063999@thesummitproject.org
SUMMARY:Aaron Henderson Softball Tournament
DESCRIPTION:
URL:https://thesummitproject.org/event/aaron-henderson-softball-tournament/
CATEGORIES:Supporting
END:VEVENT
BEGIN:VEVENT
DTSTART;VALUE=DATE:20170623
DTEND;VALUE=DATE:20170624
DTSTAMP:20260421T005749
CREATED:20170831T213827Z
LAST-MODIFIED:20170831T213827Z
UID:10000131-1498176000-1498262399@thesummitproject.org
SUMMARY:Run for Cash
DESCRIPTION:
URL:https://thesummitproject.org/event/run-for-cash/
CATEGORIES:Supporting
END:VEVENT
BEGIN:VEVENT
DTSTART;VALUE=DATE:20170528
DTEND;VALUE=DATE:20170530
DTSTAMP:20260421T005749
CREATED:20170831T213045Z
LAST-MODIFIED:20171022T194248Z
UID:10000121-1495929600-1496102399@thesummitproject.org
SUMMARY:TSP at Baxter State Park 2017
DESCRIPTION:
URL:https://thesummitproject.org/event/tsp-at-baxter-state-park/
CATEGORIES:Supporting
END:VEVENT
BEGIN:VEVENT
DTSTART;VALUE=DATE:20170422
DTEND;VALUE=DATE:20170423
DTSTAMP:20260421T005749
CREATED:20170831T212957Z
LAST-MODIFIED:20170831T213724Z
UID:10000128-1492819200-1492905599@thesummitproject.org
SUMMARY:Zimmerman Memorial Fitness Challenge
DESCRIPTION:
URL:https://thesummitproject.org/event/zimmerman-memorial-fitness-challenge/
CATEGORIES:Supporting
END:VEVENT
BEGIN:VEVENT
DTSTART;TZID=UTC:20160312T090000
DTEND;TZID=UTC:20160312T140000
DTSTAMP:20260421T005749
CREATED:20160115T031621Z
LAST-MODIFIED:20160115T031834Z
UID:10000143-1457773200-1457791200@thesummitproject.org
SUMMARY:TSP FAMILY FUN FUNDRAISER
DESCRIPTION:Attention TSP family —  \n \nPlease SAVE THE DATE for March 12\, 2016\n WHAT:  TSP Fun Family Fundraiser with an optional Polar Bear plunge (more below)\n WHERE:  Camp Jordan Facility\, Branch lake\, Ellsworth\, Maine\nWHEN:   March 12\, 2016\, from 9am to 2pm.\nWHY:   To spend time with our TSP family\, help generate some resources for our organizations\, honor our fallen\, and have some fun.\nWHAT TO BRING:  Your family and friends of TSP.  Bring a dish to share. Potluck style.  Bring money for TSP merchandise (case or check only).  Also….\nBring your swimsuit\, towel\, change of clothes if you wish to participate in our FUNdraising idea of a polar bear plunge that we are calling “Leaping for Legacies”.     If lake is NOT frozen solid\, we will allow people to raise pledges through an online donation tool\, sign a waiver and brave the cold\, to plunge into Branch lake by Leaping for Legacies.  Participation is optional and more details are coming.  We need some courageous souls who are NOT afraid to be COLD and WET (temporarily!)\n \n\ndjc
URL:https://thesummitproject.org/event/tsp-family-fun-fundraiser/
LOCATION:TSP FAMILY FUN FUNDRAISER\, Camp Jordan\, Ellsworth\, ME\, United States
CATEGORIES:The Summit Project Events
END:VEVENT
BEGIN:VEVENT
DTSTART;TZID=UTC:20160227T090000
DTEND;TZID=UTC:20160227T130000
DTSTAMP:20260421T005749
CREATED:20160115T074810Z
LAST-MODIFIED:20160213T151153Z
UID:10000130-1456563600-1456578000@thesummitproject.org
SUMMARY:TSP Honor Case comes to South Portland Boys and Girls Club
DESCRIPTION:WHO:  The entire TSP family is invited to attend \nWHAT:  Honor Case Display Memorial March and Ribbon Cutting \nWHERE: S. Portland Boys and Girls Club\,  169 Broadway\, South Portland\, ME 04106 \n WHEN:  Saturday\, Feb 27\, 9am – 1pm\n 
URL:https://thesummitproject.org/event/tsp-honor-case-comes-to-s-portland-boys-and-girls-club/
LOCATION:TSP Honor Case to S. Portland Boys and Grils\, 169 Broadway\, South Portland\, ME\, United States
CATEGORIES:The Summit Project Events
ATTACH;FMTTYPE=image/png:https://thesummitproject.org/wp-content/uploads/2016/01/Screen-Shot-2016-02-13-at-6.06.17-AM.png
END:VEVENT
BEGIN:VEVENT
DTSTART;TZID=UTC:20160212T190000
DTEND;TZID=UTC:20160212T200000
DTSTAMP:20260421T005749
CREATED:20160127T143435Z
LAST-MODIFIED:20160127T143642Z
UID:10000146-1455303600-1455307200@thesummitproject.org
SUMMARY:The Summit Project – Guest Speaker David J. Cote\, Freeport
DESCRIPTION:Friday\, February 12at 7 PM – 8 PM \nL.L.Bean Flagship Store Camping Department Atrium\nThe Summit Project is a nationally recognized Maine-based organization that pays tribute to fallen service members from Maine who have died in the line of duty since September 11\, 2001. The organization was founded by David Cote\, active-duty Marine Corps Major\, Iraq war veteran and recipient of the “Marine of the Year Award” at the 11th-annual Military Times Service Members of the Year awards ceremony. David will tell us about his program that honors veterans by engraving their name on stones that loved ones\, friends and family members carry to mountain summits around the world. This inspirational program is one you don’t want to miss as David tells it through beautiful images and stories. \nhttp://www.greatmaineoutdoorweekend.org/event/summit-project-speaker-david-cote-freeport-feb2016/
URL:https://thesummitproject.org/event/the-summit-project-guest-speaker-david-j-cote-freeport/
LOCATION:L.L.Bean\, Freeport\, ME\, United States
CATEGORIES:The Summit Project Events
END:VEVENT
BEGIN:VEVENT
DTSTART;VALUE=DATE:20151017
DTEND;VALUE=DATE:20151018
DTSTAMP:20260421T005749
CREATED:20150831T025750Z
LAST-MODIFIED:20150831T030105Z
UID:10000141-1445040000-1445126399@thesummitproject.org
SUMMARY:TSP at ANP 2015 (Private event - by invitation only)
DESCRIPTION:The Summit Project to Host 2nd Tribute Trek at Acadia National Park  \n\nFamily Gathering to Honor Maine’s Fallen Military Heroes\nThe Summit Project is a unique living memorial and 501(c)3 service organization \n that honors Maine’s post 9/11 fallen service members.  \nFor more information\, go to www.TheSummitProject.org.
URL:https://thesummitproject.org/event/tsp-at-anp-2015-private-event-by-invitation-only/
END:VEVENT
BEGIN:VEVENT
DTSTART;VALUE=DATE:20150926
DTEND;VALUE=DATE:20150927
DTSTAMP:20260421T005749
CREATED:20150818T153152Z
LAST-MODIFIED:20150831T032829Z
UID:10000151-1443225600-1443311999@thesummitproject.org
SUMMARY:TSP Honor Display Case at UMO
DESCRIPTION:The Summit Project Partners with the University of Maine for Tribute March to Military Appreciation Football Game and Honor Display Case \nOrono\, Maine – The Summit Project (TSP) will conduct a tribute march on September 26\, 2015 hosted by The University of Maine. There will be a public memorial service at 1pm on the steps of Fogler Library. The march is intended to honor fallen service members from UMaine and surrounding communities. This ceremony will commence a one-month period over which UMaine will stand guard over this case\, protecting both the stones and the memories of our fallen Maine service members. \n  \nThe hikers for this march have been pre selected\, but the ribbon cutting portion of the event\, starting with the Fogler Library service at 1pm\,  is open to the public\, but we are requesting positive RSVP.  Please RSVP to Tony.Llerena@maine.edu. \n  \nThis display will remain in the custody of the university as we bring many of the fallen home to the UMaine community where they once resided. Stones within this display will help share the memories of our fallen\, along with the mission of TSP\, with members of our community. \nThe march will consist of a 7.5-mile walk beginning at the Maine Veterans Home in Bangor on Saturday September 26th and ending at Alfond Stadium on the UMaine campus for the military appreciation football game\, where they will be honored. \n  \nAs part of the event\, hikers will carry engraved TSP memorial stones that have been donated by family members to represent their fallen loved ones. Volunteers will learn about the service members whose stone they will carry\, write a letter for the service member’s family\, and read it during the memorial service on campus following the trek. The stones will be on display at the stadium prior to and during the game before becoming part of the temporary TSP display in the Memorial Room of the Memorial Union. \n  \nThis event is open to students and faculty of UMaine\, TSP alumni\, and all of our surviving families. Members of the public are welcome to observe the event along the route\, on campus\, or at the football game. Complimentary tickets to the football game are available for active duty service members\, veterans\, and gold star families. Please contact Tony Llerena to request tickets. \n  \nTSP is a nationally recognized\, Maine-based service organization\, which provides a living memorial to pay tribute to the fallen service members from Maine who died in the line of duty since Sept. 11\, 2001.
URL:https://thesummitproject.org/event/honor-display-case-to-umo/
CATEGORIES:The Summit Project Events
END:VEVENT
END:VCALENDAR