BEGIN:VCALENDAR
VERSION:2.0
PRODID:-//The Summit Project - ECPv6.15.20//NONSGML v1.0//EN
CALSCALE:GREGORIAN
METHOD:PUBLISH
X-WR-CALNAME:The Summit Project
X-ORIGINAL-URL:https://thesummitproject.org
X-WR-CALDESC:Events for The Summit Project
REFRESH-INTERVAL;VALUE=DURATION:PT1H
X-Robots-Tag:noindex
X-PUBLISHED-TTL:PT1H
BEGIN:VTIMEZONE
TZID:UTC
BEGIN:STANDARD
TZOFFSETFROM:+0000
TZOFFSETTO:+0000
TZNAME:UTC
DTSTART:20150101T000000
END:STANDARD
END:VTIMEZONE
BEGIN:VTIMEZONE
TZID:UTC
BEGIN:STANDARD
TZOFFSETFROM:+0000
TZOFFSETTO:+0000
TZNAME:UTC
DTSTART:20140101T000000
END:STANDARD
END:VTIMEZONE
BEGIN:VEVENT
DTSTART;VALUE=DATE:20170623
DTEND;VALUE=DATE:20170624
DTSTAMP:20260421T024315
CREATED:20170831T213827Z
LAST-MODIFIED:20170831T213827Z
UID:10000131-1498176000-1498262399@thesummitproject.org
SUMMARY:Run for Cash
DESCRIPTION:
URL:https://thesummitproject.org/event/run-for-cash/
LOCATION:ME
CATEGORIES:Supporting
END:VEVENT
BEGIN:VEVENT
DTSTART;VALUE=DATE:20170528
DTEND;VALUE=DATE:20170530
DTSTAMP:20260421T024315
CREATED:20170831T213045Z
LAST-MODIFIED:20171022T194248Z
UID:10000121-1495929600-1496102399@thesummitproject.org
SUMMARY:TSP at Baxter State Park 2017
DESCRIPTION:
URL:https://thesummitproject.org/event/tsp-at-baxter-state-park/
LOCATION:ME
CATEGORIES:Supporting
END:VEVENT
BEGIN:VEVENT
DTSTART;VALUE=DATE:20170422
DTEND;VALUE=DATE:20170423
DTSTAMP:20260421T024315
CREATED:20170831T212957Z
LAST-MODIFIED:20170831T213724Z
UID:10000128-1492819200-1492905599@thesummitproject.org
SUMMARY:Zimmerman Memorial Fitness Challenge
DESCRIPTION:
URL:https://thesummitproject.org/event/zimmerman-memorial-fitness-challenge/
LOCATION:ME
CATEGORIES:Supporting
END:VEVENT
BEGIN:VEVENT
DTSTART;TZID=UTC:20160312T090000
DTEND;TZID=UTC:20160312T140000
DTSTAMP:20260421T024315
CREATED:20160115T031621Z
LAST-MODIFIED:20160115T031834Z
UID:10000143-1457773200-1457791200@thesummitproject.org
SUMMARY:TSP FAMILY FUN FUNDRAISER
DESCRIPTION:Attention TSP family —  \n \nPlease SAVE THE DATE for March 12\, 2016\n WHAT:  TSP Fun Family Fundraiser with an optional Polar Bear plunge (more below)\n WHERE:  Camp Jordan Facility\, Branch lake\, Ellsworth\, Maine\nWHEN:   March 12\, 2016\, from 9am to 2pm.\nWHY:   To spend time with our TSP family\, help generate some resources for our organizations\, honor our fallen\, and have some fun.\nWHAT TO BRING:  Your family and friends of TSP.  Bring a dish to share. Potluck style.  Bring money for TSP merchandise (case or check only).  Also….\nBring your swimsuit\, towel\, change of clothes if you wish to participate in our FUNdraising idea of a polar bear plunge that we are calling “Leaping for Legacies”.     If lake is NOT frozen solid\, we will allow people to raise pledges through an online donation tool\, sign a waiver and brave the cold\, to plunge into Branch lake by Leaping for Legacies.  Participation is optional and more details are coming.  We need some courageous souls who are NOT afraid to be COLD and WET (temporarily!)\n \n\ndjc
URL:https://thesummitproject.org/event/tsp-family-fun-fundraiser/
LOCATION:TSP FAMILY FUN FUNDRAISER\, Camp Jordan\, Ellsworth\, ME\, United States
CATEGORIES:The Summit Project Events
END:VEVENT
BEGIN:VEVENT
DTSTART;TZID=UTC:20160227T090000
DTEND;TZID=UTC:20160227T130000
DTSTAMP:20260421T024315
CREATED:20160115T074810Z
LAST-MODIFIED:20160213T151153Z
UID:10000130-1456563600-1456578000@thesummitproject.org
SUMMARY:TSP Honor Case comes to South Portland Boys and Girls Club
DESCRIPTION:WHO:  The entire TSP family is invited to attend \nWHAT:  Honor Case Display Memorial March and Ribbon Cutting \nWHERE: S. Portland Boys and Girls Club\,  169 Broadway\, South Portland\, ME 04106 \n WHEN:  Saturday\, Feb 27\, 9am – 1pm\n 
URL:https://thesummitproject.org/event/tsp-honor-case-comes-to-s-portland-boys-and-girls-club/
LOCATION:TSP Honor Case to S. Portland Boys and Grils\, 169 Broadway\, South Portland\, ME\, United States
CATEGORIES:The Summit Project Events
ATTACH;FMTTYPE=image/png:https://thesummitproject.org/wp-content/uploads/2016/01/Screen-Shot-2016-02-13-at-6.06.17-AM.png
END:VEVENT
BEGIN:VEVENT
DTSTART;TZID=UTC:20160212T190000
DTEND;TZID=UTC:20160212T200000
DTSTAMP:20260421T024315
CREATED:20160127T143435Z
LAST-MODIFIED:20160127T143642Z
UID:10000146-1455303600-1455307200@thesummitproject.org
SUMMARY:The Summit Project – Guest Speaker David J. Cote\, Freeport
DESCRIPTION:Friday\, February 12at 7 PM – 8 PM \nL.L.Bean Flagship Store Camping Department Atrium\nThe Summit Project is a nationally recognized Maine-based organization that pays tribute to fallen service members from Maine who have died in the line of duty since September 11\, 2001. The organization was founded by David Cote\, active-duty Marine Corps Major\, Iraq war veteran and recipient of the “Marine of the Year Award” at the 11th-annual Military Times Service Members of the Year awards ceremony. David will tell us about his program that honors veterans by engraving their name on stones that loved ones\, friends and family members carry to mountain summits around the world. This inspirational program is one you don’t want to miss as David tells it through beautiful images and stories. \nhttp://www.greatmaineoutdoorweekend.org/event/summit-project-speaker-david-cote-freeport-feb2016/
URL:https://thesummitproject.org/event/the-summit-project-guest-speaker-david-j-cote-freeport/
LOCATION:L.L.Bean\, Freeport\, ME\, United States
CATEGORIES:The Summit Project Events
END:VEVENT
BEGIN:VEVENT
DTSTART;VALUE=DATE:20151017
DTEND;VALUE=DATE:20151018
DTSTAMP:20260421T024316
CREATED:20150831T025750Z
LAST-MODIFIED:20150831T030105Z
UID:10000141-1445040000-1445126399@thesummitproject.org
SUMMARY:TSP at ANP 2015 (Private event - by invitation only)
DESCRIPTION:The Summit Project to Host 2nd Tribute Trek at Acadia National Park  \n\nFamily Gathering to Honor Maine’s Fallen Military Heroes\nThe Summit Project is a unique living memorial and 501(c)3 service organization \n that honors Maine’s post 9/11 fallen service members.  \nFor more information\, go to www.TheSummitProject.org.
URL:https://thesummitproject.org/event/tsp-at-anp-2015-private-event-by-invitation-only/
LOCATION:ME
END:VEVENT
BEGIN:VEVENT
DTSTART;VALUE=DATE:20150926
DTEND;VALUE=DATE:20150927
DTSTAMP:20260421T024316
CREATED:20150818T153152Z
LAST-MODIFIED:20150831T032829Z
UID:10000151-1443225600-1443311999@thesummitproject.org
SUMMARY:TSP Honor Display Case at UMO
DESCRIPTION:The Summit Project Partners with the University of Maine for Tribute March to Military Appreciation Football Game and Honor Display Case \nOrono\, Maine – The Summit Project (TSP) will conduct a tribute march on September 26\, 2015 hosted by The University of Maine. There will be a public memorial service at 1pm on the steps of Fogler Library. The march is intended to honor fallen service members from UMaine and surrounding communities. This ceremony will commence a one-month period over which UMaine will stand guard over this case\, protecting both the stones and the memories of our fallen Maine service members. \n  \nThe hikers for this march have been pre selected\, but the ribbon cutting portion of the event\, starting with the Fogler Library service at 1pm\,  is open to the public\, but we are requesting positive RSVP.  Please RSVP to Tony.Llerena@maine.edu. \n  \nThis display will remain in the custody of the university as we bring many of the fallen home to the UMaine community where they once resided. Stones within this display will help share the memories of our fallen\, along with the mission of TSP\, with members of our community. \nThe march will consist of a 7.5-mile walk beginning at the Maine Veterans Home in Bangor on Saturday September 26th and ending at Alfond Stadium on the UMaine campus for the military appreciation football game\, where they will be honored. \n  \nAs part of the event\, hikers will carry engraved TSP memorial stones that have been donated by family members to represent their fallen loved ones. Volunteers will learn about the service members whose stone they will carry\, write a letter for the service member’s family\, and read it during the memorial service on campus following the trek. The stones will be on display at the stadium prior to and during the game before becoming part of the temporary TSP display in the Memorial Room of the Memorial Union. \n  \nThis event is open to students and faculty of UMaine\, TSP alumni\, and all of our surviving families. Members of the public are welcome to observe the event along the route\, on campus\, or at the football game. Complimentary tickets to the football game are available for active duty service members\, veterans\, and gold star families. Please contact Tony Llerena to request tickets. \n  \nTSP is a nationally recognized\, Maine-based service organization\, which provides a living memorial to pay tribute to the fallen service members from Maine who died in the line of duty since Sept. 11\, 2001.
URL:https://thesummitproject.org/event/honor-display-case-to-umo/
LOCATION:ME
CATEGORIES:The Summit Project Events
END:VEVENT
END:VCALENDAR