BEGIN:VCALENDAR
VERSION:2.0
PRODID:-//The Summit Project - ECPv6.15.20//NONSGML v1.0//EN
CALSCALE:GREGORIAN
METHOD:PUBLISH
X-ORIGINAL-URL:https://thesummitproject.org
X-WR-CALDESC:Events for The Summit Project
REFRESH-INTERVAL;VALUE=DURATION:PT1H
X-Robots-Tag:noindex
X-PUBLISHED-TTL:PT1H
BEGIN:VTIMEZONE
TZID:UTC
BEGIN:STANDARD
TZOFFSETFROM:+0000
TZOFFSETTO:+0000
TZNAME:UTC
DTSTART:20190101T000000
END:STANDARD
END:VTIMEZONE
BEGIN:VEVENT
DTSTART;TZID=UTC:20200912T070000
DTEND;TZID=UTC:20200912T170000
DTSTAMP:20260420T080635
CREATED:20200901T015754Z
LAST-MODIFIED:20200901T020020Z
UID:10000034-1599894000-1599930000@thesummitproject.org
SUMMARY:CLIMB TO REMEMBER - PATRIOT DAY
DESCRIPTION:Event Type: Public\n  \nClimb to Remember Patriot Day 14/4000′ is an event designed to memorialize those both injured and killed in the 9/11 attacks in New York\, The Pentagon\, and in the heroic sacrifices by those on United Airlines flight 93. Similarly to Flags on the 48\, a program based in New Hampshire\, Climb to Remember – 14/4000′ aims to raise our American flag on ALL the summits of the Maine 14 mountains over 4000 feet in remembrance of 9/11. Together with our climbing brethren in New Hampshire this would raise 62 American Flags over ME/NH 4000+’ peaks!!! \nPlease sign up HERE and Climb to Remember will publish climbing groups as they get filled.\nAgain\, the goal is to have ALL of the 14 4000′ MTNs summited by a climbing group and our Nation’s flag flown at the summit!
URL:https://thesummitproject.org/event/climb-to-remember-patriot-day/
CATEGORIES:Supporting
ATTACH;FMTTYPE=image/jpeg:https://thesummitproject.org/wp-content/uploads/2020/08/Climb-to-Remember-e1598911120863.jpg
END:VEVENT
END:VCALENDAR