BEGIN:VCALENDAR
VERSION:2.0
PRODID:-//The Summit Project - ECPv6.15.20//NONSGML v1.0//EN
CALSCALE:GREGORIAN
METHOD:PUBLISH
X-WR-CALNAME:The Summit Project
X-ORIGINAL-URL:https://thesummitproject.org
X-WR-CALDESC:Events for The Summit Project
REFRESH-INTERVAL;VALUE=DURATION:PT1H
X-Robots-Tag:noindex
X-PUBLISHED-TTL:PT1H
BEGIN:VTIMEZONE
TZID:UTC
BEGIN:STANDARD
TZOFFSETFROM:+0000
TZOFFSETTO:+0000
TZNAME:UTC
DTSTART:20170101T000000
END:STANDARD
END:VTIMEZONE
BEGIN:VEVENT
DTSTART;TZID=UTC:20200808T070000
DTEND;TZID=UTC:20200808T130000
DTSTAMP:20260421T071040
CREATED:20200126T201912Z
LAST-MODIFIED:20200126T202312Z
UID:10000024-1596870000-1596891600@thesummitproject.org
SUMMARY:Husky Ruck Memorial 10K 2020
DESCRIPTION:Event Type: Public\nOur mission:\nTo pay tribute to Maine’s own hometown hero\, USMC Corporal Mark R. Goyet\, by bringing together the Southern Maine Community and challenging ourselves both mentally and physically over the course of a 10k military ruck and obstacle course in his honor.  \nBy fulfilling this mission\, we continue to demonstrate the same qualities which Mark personified over the course of his lifetime. We continue to serve a greater purpose\, and by facing these challenges\, Mark lives on through the course of our action. \nProceeds raised during this event will be utilized to support military communities everywhere and scholarship opportunities for veterans at the University of Southern Maine.\n \nRegistration fees:\n$25 Children (under 18)\n$45 Adults thru April 30th (then increase to $55) \n  \n \n  \n\nFacebook.com/HuskyRuckMemorial10k\nhttps://runsignup.com/Race/ME/NewGloucester/HuskyRuckMemorial
URL:https://thesummitproject.org/event/husky-ruck-memorial-10k-2020/
LOCATION:Pineland Farms\, 15 Farm View Dr ME US 04260\, New Gloucester\, ME\, 04260\, United States
CATEGORIES:Hosted
ATTACH;FMTTYPE=image/png:https://thesummitproject.org/wp-content/uploads/2018/06/Capture-Woodland-Logo-Black-e1527981350737.png
ORGANIZER;CN="Cpl Mark Goyet Memorial Foundation%2C Inc":MAILTO:cmgmf86@gmail.com
END:VEVENT
BEGIN:VEVENT
DTSTART;TZID=UTC:20190810T080000
DTEND;TZID=UTC:20190810T130000
DTSTAMP:20260421T071040
CREATED:20190112T231235Z
LAST-MODIFIED:20190112T231236Z
UID:10000006-1565424000-1565442000@thesummitproject.org
SUMMARY:Husky Ruck Memorial 10K 2019
DESCRIPTION:Event Type: Public\nOur mission:\nTo pay tribute to Maine’s own hometown hero\, USMC Corporal Mark R. Goyet\, by bringing together the Southern Maine Community and challenging ourselves both mentally and physically over the course of a 10k military ruck and obstacle course in his honor.  \nBy fulfilling this mission\, we continue to demonstrate the same qualities which Mark personified over the course of his lifetime. We continue to serve a greater purpose\, and by facing these challenges\, Mark lives on through the course of our action. \nProceeds raised during this event will be utilized to support military communities everywhere and scholarship opportunities for veterans at the University of Southern Maine.\n \nRegistration fees:\n$25 Children (under 18)\n$35 Adults thru April 29th (then increase to $45) \n  \n \n\nFacebook.com/HuskyRuckMemorial10k\nhttps://runsignup.com/Race/ME/NewGloucester/HuskyRuckMemorial
URL:https://thesummitproject.org/event/husky-ruck-memorial-10k-2019/
LOCATION:Pineland Farms\, 15 Farm View Dr ME US 04260\, New Gloucester\, ME\, 04260\, United States
CATEGORIES:Supporting
ATTACH;FMTTYPE=image/png:https://thesummitproject.org/wp-content/uploads/2018/06/Capture-Woodland-Logo-Black-e1527981350737.png
ORGANIZER;CN="Cpl Mark Goyet Memorial Foundation%2C Inc":MAILTO:cmgmf86@gmail.com
END:VEVENT
BEGIN:VEVENT
DTSTART;TZID=UTC:20180811T080000
DTEND;TZID=UTC:20180811T130000
DTSTAMP:20260421T071040
CREATED:20180603T031347Z
LAST-MODIFIED:20180603T034911Z
UID:10000136-1533974400-1533992400@thesummitproject.org
SUMMARY:Husky Ruck Memorial 10k 2018
DESCRIPTION:Event Type: Public\nOur mission:\nTo pay tribute to Maine’s own hometown hero\, USMC Corporal Mark R. Goyet\, by bringing together the Southern Maine Community and challenging ourselves both mentally and physically over the course of a 10k military ruck and obstacle course in his honor.  \nBy fulfilling this mission\, we continue to demonstrate the same qualities which Mark personified over the course of his lifetime. We continue to serve a greater purpose\, and by facing these challenges\, Mark lives on through the course of our action. \nProceeds raised during this event will be utilized to support military communities everywhere and scholarship opportunities for veterans at the University of Southern Maine.\n \nRegistration fees:\n$25 Children (under 18)\n$55 Adults thru Aug 5th \n  \n \n\nFacebook.com/HuskyRuckMemorial10k\nhttps://runsignup.com/Race/ME/NewGloucester/HuskyRuckMemorial
URL:https://thesummitproject.org/event/husky-ruck-memorial-10k-2018/
LOCATION:Pineland Farms\, 15 Farm View Dr ME US 04260\, New Gloucester\, ME\, 04260\, United States
CATEGORIES:Supporting
ATTACH;FMTTYPE=image/png:https://thesummitproject.org/wp-content/uploads/2018/06/Capture-Woodland-Logo-Black-e1527981350737.png
ORGANIZER;CN="Cpl Mark Goyet Memorial Foundation%2C Inc":MAILTO:cmgmf86@gmail.com
END:VEVENT
END:VCALENDAR